BEGIN:VCALENDAR
VERSION:2.0
PRODID:-//Florida Sheriffs Association - ECPv6.15.20//NONSGML v1.0//EN
CALSCALE:GREGORIAN
METHOD:PUBLISH
X-ORIGINAL-URL:https://flsheriffs.org
X-WR-CALDESC:Events for Florida Sheriffs Association
REFRESH-INTERVAL;VALUE=DURATION:PT1H
X-Robots-Tag:noindex
X-PUBLISHED-TTL:PT1H
BEGIN:VTIMEZONE
TZID:America/New_York
BEGIN:DAYLIGHT
TZOFFSETFROM:-0500
TZOFFSETTO:-0400
TZNAME:EDT
DTSTART:20240310T070000
END:DAYLIGHT
BEGIN:STANDARD
TZOFFSETFROM:-0400
TZOFFSETTO:-0500
TZNAME:EST
DTSTART:20241103T060000
END:STANDARD
BEGIN:DAYLIGHT
TZOFFSETFROM:-0500
TZOFFSETTO:-0400
TZNAME:EDT
DTSTART:20250309T070000
END:DAYLIGHT
BEGIN:STANDARD
TZOFFSETFROM:-0400
TZOFFSETTO:-0500
TZNAME:EST
DTSTART:20251102T060000
END:STANDARD
BEGIN:DAYLIGHT
TZOFFSETFROM:-0500
TZOFFSETTO:-0400
TZNAME:EDT
DTSTART:20260308T070000
END:DAYLIGHT
BEGIN:STANDARD
TZOFFSETFROM:-0400
TZOFFSETTO:-0500
TZNAME:EST
DTSTART:20261101T060000
END:STANDARD
END:VTIMEZONE
BEGIN:VEVENT
DTSTART;VALUE=DATE:20250211
DTEND;VALUE=DATE:20250214
DTSTAMP:20260420T084441
CREATED:20250118T151240Z
LAST-MODIFIED:20250118T151240Z
UID:10000782-1739232000-1739491199@flsheriffs.org
SUMMARY:2025 Cold Case Investigations
DESCRIPTION:This course will cover how to approach a cold case investigation by explaining ideas for how to review and dissect investigative supplemental reports\, which includes reviewing the crime scene from reports and photographs. Additionally\, with today’s technological advancements in DNA and other forensic opportunities (such as genetic genealogy and the M-Vac System). We will also discuss things to look for that may result in positive outcomes from scientific examinations. The course will also cover working with prosecutors and medical examiners on how to discuss the investigation\, and how to work together for a successful prosecution.
URL:https://flsheriffs.org/event/2025-cold-case-investigations/
LOCATION:Doral Glades Park\, 7600 NW 98 Pl\, Doral\, FL\, 33178\, United States
END:VEVENT
END:VCALENDAR