BEGIN:VCALENDAR
VERSION:2.0
PRODID:-//Florida Sheriffs Association - ECPv6.15.20//NONSGML v1.0//EN
CALSCALE:GREGORIAN
METHOD:PUBLISH
X-ORIGINAL-URL:https://flsheriffs.org
X-WR-CALDESC:Events for Florida Sheriffs Association
REFRESH-INTERVAL;VALUE=DURATION:PT1H
X-Robots-Tag:noindex
X-PUBLISHED-TTL:PT1H
BEGIN:VTIMEZONE
TZID:America/Chicago
BEGIN:DAYLIGHT
TZOFFSETFROM:-0600
TZOFFSETTO:-0500
TZNAME:CDT
DTSTART:20240310T080000
END:DAYLIGHT
BEGIN:STANDARD
TZOFFSETFROM:-0500
TZOFFSETTO:-0600
TZNAME:CST
DTSTART:20241103T070000
END:STANDARD
BEGIN:DAYLIGHT
TZOFFSETFROM:-0600
TZOFFSETTO:-0500
TZNAME:CDT
DTSTART:20250309T080000
END:DAYLIGHT
BEGIN:STANDARD
TZOFFSETFROM:-0500
TZOFFSETTO:-0600
TZNAME:CST
DTSTART:20251102T070000
END:STANDARD
BEGIN:DAYLIGHT
TZOFFSETFROM:-0600
TZOFFSETTO:-0500
TZNAME:CDT
DTSTART:20260308T080000
END:DAYLIGHT
BEGIN:STANDARD
TZOFFSETFROM:-0500
TZOFFSETTO:-0600
TZNAME:CST
DTSTART:20261101T070000
END:STANDARD
END:VTIMEZONE
BEGIN:VTIMEZONE
TZID:America/New_York
BEGIN:DAYLIGHT
TZOFFSETFROM:-0500
TZOFFSETTO:-0400
TZNAME:EDT
DTSTART:20240310T070000
END:DAYLIGHT
BEGIN:STANDARD
TZOFFSETFROM:-0400
TZOFFSETTO:-0500
TZNAME:EST
DTSTART:20241103T060000
END:STANDARD
BEGIN:DAYLIGHT
TZOFFSETFROM:-0500
TZOFFSETTO:-0400
TZNAME:EDT
DTSTART:20250309T070000
END:DAYLIGHT
BEGIN:STANDARD
TZOFFSETFROM:-0400
TZOFFSETTO:-0500
TZNAME:EST
DTSTART:20251102T060000
END:STANDARD
BEGIN:DAYLIGHT
TZOFFSETFROM:-0500
TZOFFSETTO:-0400
TZNAME:EDT
DTSTART:20260308T070000
END:DAYLIGHT
BEGIN:STANDARD
TZOFFSETFROM:-0400
TZOFFSETTO:-0500
TZNAME:EST
DTSTART:20261101T060000
END:STANDARD
END:VTIMEZONE
BEGIN:VEVENT
DTSTART;TZID=America/Chicago:20250416T140000
DTEND;TZID=America/Chicago:20250416T170000
DTSTAMP:20260419T130802
CREATED:20250205T033855Z
LAST-MODIFIED:20250205T034012Z
UID:10000784-1744812000-1744822800@flsheriffs.org
SUMMARY:How Money Works: Balancing Life and Finances
DESCRIPTION:Join FDSA for a financial training session for Florida deputies covering the Florida Retirement System\, smart investing\, budgeting\, home and car buying\, mortgages\, and insurance. You will also learn practical tips to avoid pitfalls and take control of your finances. \nThis event is free for Florida deputies.
URL:https://flsheriffs.org/event/how-money-works-balancing-life-and-finances-april2025/
LOCATION:Bay County Sheriff’s Office\, 3421 Florida 77\, Panama City\, FL\, 32405\, United States
CATEGORIES:Training
ORGANIZER;CN="Florida Deputy Sheriffs Association":MAILTO:info@fldeputysheriffs.org
END:VEVENT
BEGIN:VEVENT
DTSTART;TZID=America/Chicago:20250416T180000
DTEND;TZID=America/Chicago:20250416T210000
DTSTAMP:20260419T130802
CREATED:20250205T033933Z
LAST-MODIFIED:20250205T033933Z
UID:10000785-1744826400-1744837200@flsheriffs.org
SUMMARY:How Money Works: Balancing Life and Finances
DESCRIPTION:Join FDSA for a financial training session for Florida deputies covering the Florida Retirement System\, smart investing\, budgeting\, home and car buying\, mortgages\, and insurance. You will also learn practical tips to avoid pitfalls and take control of your finances. \nThis event is free for Florida deputies.
URL:https://flsheriffs.org/event/how-money-works-balancing-life-and-finances-3/
LOCATION:Bay County Sheriff’s Office\, 3421 Florida 77\, Panama City\, FL\, 32405\, United States
CATEGORIES:Training
ORGANIZER;CN="Florida Deputy Sheriffs Association":MAILTO:info@fldeputysheriffs.org
END:VEVENT
BEGIN:VEVENT
DTSTART;VALUE=DATE:20250528
DTEND;VALUE=DATE:20250531
DTSTAMP:20260419T130802
CREATED:20241227T193647Z
LAST-MODIFIED:20241227T193647Z
UID:10000775-1748390400-1748649599@flsheriffs.org
SUMMARY:Florida Law Enforcement and Tactical Operations Conference and Expo
DESCRIPTION:The Florida Deputy Sheriffs Association and TacOps Tactical Training Conferences have partnered to present the Florida Law Enforcement and Tactical Operations Conference and Expo. \nThe conference is designed for both law enforcement professionals and tactical unit members. It will feature: \n\n40+ training tracks led by top instructors from across the nation\nClassroom learning\, practical application\, incident debriefs and instructor-level certifications\nVendor expo featuring cutting-edge technologies\, services and products in the law enforcement industry\nMore than $10\,000 in raffle prizes\, giving everyone a chance to win!\n\n\nAttendee and exhibitor registration is now available. Registration is open to all law enforcement professionals and agencies.
URL:https://flsheriffs.org/event/florida-law-enforcement-and-tactical-operations-conference-and-expo/
LOCATION:Hyatt Regency Jacksonville Riverfront\, 225 E Coastline Dr\, Jacksonville\, Florida\, 32202
CATEGORIES:Training
ORGANIZER;CN="Florida Deputy Sheriffs Association":MAILTO:info@fldeputysheriffs.org
END:VEVENT
BEGIN:VEVENT
DTSTART;TZID=America/New_York:20250611T083000
DTEND;TZID=America/New_York:20250611T163000
DTSTAMP:20260419T130802
CREATED:20241227T193911Z
LAST-MODIFIED:20241227T193911Z
UID:10000776-1749630600-1749659400@flsheriffs.org
SUMMARY:OoRah Leadership: Tip of the Spear Transformation
DESCRIPTION:Join FDSA to discover how to overcome self-doubt and unlock your potential with OoRah Leadership\, led by Dr. Michael Steele\, a retired Orange County deputy sheriff\, USMC veteran and acclaimed author. This training takes participants on a personal journey of honor\, courage\, and commitment. Participants in this training make real time decisions about how to be intentional and purposeful about excellence on their journey. \nThis event is free for Florida deputies.
URL:https://flsheriffs.org/event/oorah-leadership-tip-of-the-spear-transformation/
LOCATION:Franklin County Sheriff’s Office\, 270 Florida 65\, Eastpoint\, FL\, 32328\, United States
CATEGORIES:Training
ORGANIZER;CN="Florida Deputy Sheriffs Association":MAILTO:info@fldeputysheriffs.org
END:VEVENT
BEGIN:VEVENT
DTSTART;TZID=America/Chicago:20250717T083000
DTEND;TZID=America/Chicago:20250717T133000
DTSTAMP:20260419T130802
CREATED:20241227T194238Z
LAST-MODIFIED:20250118T145646Z
UID:10000777-1752741000-1752759000@flsheriffs.org
SUMMARY:Police Resiliency and Critical Incident Mindset Training
DESCRIPTION:Join FDSA and Las Vegas Metropolitan Police Department Captain Josh Bitsko for a powerful training session. Drawing from 24 years in law enforcement\, including his leadership during the 2017 Route 91  concert massacre and the recent University of Nevada Las Vegas active shooter incident\, Captain Bitsko shares firsthand experiences and lessons learned. This class explores the intense emotions officers face during critical incidents\, the lifelong impact of trauma\, and science-based strategies for coping and recovery. Gain valuable insights to enhance response effectiveness and resilience in the face of the toughest calls. \nThis event is free for Florida deputies.
URL:https://flsheriffs.org/event/police-resiliency-and-critical-incident-mindset-training/
LOCATION:Elevate Life Church\, 1845 Town Center Boulevard #Building 400\, Fleming Island\, FL\, 32003
CATEGORIES:Training
ORGANIZER;CN="Florida Deputy Sheriffs Association":MAILTO:info@fldeputysheriffs.org
END:VEVENT
BEGIN:VEVENT
DTSTART;TZID=America/New_York:20250807T083000
DTEND;TZID=America/New_York:20250807T163000
DTSTAMP:20260419T130802
CREATED:20241227T194611Z
LAST-MODIFIED:20241227T194611Z
UID:10000778-1754555400-1754584200@flsheriffs.org
SUMMARY:Spark-Up: Managing the Demands of Policing in the 21st Century
DESCRIPTION:Join FDSA for an engaging event on the challenges and opportunities in modern policing. Hear insights from retired experts Bureau Chief Chris Summers and Chief Deputy and FDSA Deputy Executive Director John Creamer\, and connect with fellow law enforcement professionals. Stay up-to-date on the latest trends and advancements—don’t miss this opportunity to spark up your knowledge and skills! \nThis event is free for Florida deputies.
URL:https://flsheriffs.org/event/spark-up-managing-the-demands-of-policing-in-the-21st-century/
LOCATION:Indian River County Sheriff’s Office\, 4055 41st Avenue\, Vero Beach\, FL\, 32960\, United States
CATEGORIES:Training
ORGANIZER;CN="Florida Deputy Sheriffs Association":MAILTO:info@fldeputysheriffs.org
END:VEVENT
BEGIN:VEVENT
DTSTART;TZID=America/New_York:20250915T083000
DTEND;TZID=America/New_York:20250915T163000
DTSTAMP:20260419T130802
CREATED:20241227T194932Z
LAST-MODIFIED:20241227T194932Z
UID:10000779-1757925000-1757953800@flsheriffs.org
SUMMARY:OoRah Leadership: Tip of the Spear Transformation
DESCRIPTION:Join FDSA to discover how to overcome self-doubt and unlock your potential with OoRah Leadership\, led by Dr. Michael Steele\, a retired Orange County deputy sheriff\, USMC veteran and acclaimed author. This training takes participants on a personal journey of honor\, courage\, and commitment. Participants in this training make real time decisions about how to be intentional and purposeful about excellence on their journey. \nThis event is free for Florida deputies.
URL:https://flsheriffs.org/event/oorah-leadership-tip-of-the-spear-transformation-putnam/
LOCATION:Putnam County Sheriff’s Office\, 1100 North 19th Street\, Palatka\, FL\, 32177\, United States
CATEGORIES:Training
ORGANIZER;CN="Florida Deputy Sheriffs Association":MAILTO:info@fldeputysheriffs.org
END:VEVENT
BEGIN:VEVENT
DTSTART;TZID=America/New_York:20251015T083000
DTEND;TZID=America/New_York:20251015T163000
DTSTAMP:20260419T130802
CREATED:20241227T195006Z
LAST-MODIFIED:20241227T195006Z
UID:10000780-1760517000-1760545800@flsheriffs.org
SUMMARY:Spark-Up: Managing the Demands of Policing in the 21st Century
DESCRIPTION:Join FDSA for an engaging event on the challenges and opportunities in modern policing. Hear insights from retired experts Bureau Chief Chris Summers and Chief Deputy and FDSA Deputy Executive Director John Creamer\, and connect with fellow law enforcement professionals. Stay up-to-date on the latest trends and advancements—don’t miss this opportunity to spark up your knowledge and skills! \nThis event is free for Florida deputies.
URL:https://flsheriffs.org/event/spark-up-managing-the-demands-of-policing-in-the-21st-century-santa-rosa/
LOCATION:Santa Rosa County Sheriff’s Office\, 5755 East Milton Road\, Milton\, FL\, 32583\, United States
CATEGORIES:Training
ORGANIZER;CN="Florida Deputy Sheriffs Association":MAILTO:info@fldeputysheriffs.org
END:VEVENT
BEGIN:VEVENT
DTSTART;TZID=America/New_York:20251210T083000
DTEND;TZID=America/New_York:20251210T163000
DTSTAMP:20260419T130802
CREATED:20241227T195100Z
LAST-MODIFIED:20241227T195100Z
UID:10000781-1765355400-1765384200@flsheriffs.org
SUMMARY:Spark-Up: Managing the Demands of Policing in the 21st Century
DESCRIPTION:Join FDSA for an engaging event on the challenges and opportunities in modern policing. Hear insights from retired experts Bureau Chief Chris Summers and Chief Deputy and FDSA Deputy Executive Director John Creamer\, and connect with fellow law enforcement professionals. Stay up-to-date on the latest trends and advancements—don’t miss this opportunity to spark up your knowledge and skills! \nThis event is free for Florida deputies.
URL:https://flsheriffs.org/event/spark-up-managing-the-demands-of-policing-in-the-21st-century-washington/
LOCATION:Washington County Sheriff’s Office\, 711 3rd Street\, Chipley\, FL\, 32428\, United States
CATEGORIES:Training
ORGANIZER;CN="Florida Deputy Sheriffs Association":MAILTO:info@fldeputysheriffs.org
END:VEVENT
END:VCALENDAR